BEGIN:VCALENDAR
VERSION:2.0
PRODID:-//Association Française pour le Tournage d Art sur Bois - ECPv6.15.20//NONSGML v1.0//EN
CALSCALE:GREGORIAN
METHOD:PUBLISH
X-WR-CALNAME:Association Française pour le Tournage d Art sur Bois
X-ORIGINAL-URL:https://aftab-asso.fr
X-WR-CALDESC:Évènements pour Association Française pour le Tournage d Art sur Bois
REFRESH-INTERVAL;VALUE=DURATION:PT1H
X-Robots-Tag:noindex
X-PUBLISHED-TTL:PT1H
BEGIN:VTIMEZONE
TZID:UTC
BEGIN:STANDARD
TZOFFSETFROM:+0000
TZOFFSETTO:+0000
TZNAME:UTC
DTSTART:20250101T000000
END:STANDARD
END:VTIMEZONE
BEGIN:VEVENT
DTSTART;TZID=UTC:20260926T000000
DTEND;TZID=UTC:20260927T235959
DTSTAMP:20260419T204416
CREATED:20230914T133432Z
LAST-MODIFIED:20260403T071604Z
UID:292-1790380800-1790553599@aftab-asso.fr
SUMMARY:Art Expo Châtenois
DESCRIPTION:Exposition Arts et Sculptures \n\n\n\nExposition de tournage d’art à Châtenois\, avec un grand espace dédié  \n\n\n\nL’antenne Alsace Lorraine de l’Aftab organise son exposition de tournage d’art annuelle le weekenddu 26 et 27 septembre 2026 dans le cadre d’Art Expo Châtenois. Cet événement vise àpromouvoir la visibilité d’artistes régionaux et c’est à ce titre\, que l’Aftab Alsace Lorraine y estinvitée depuis 3 ans.Pour sa 10e édition\, nous avons obtenu l’exclusivité de la salle ce qui nous donne l’opportunitéd’ouvrir nos portes au delà de l’Alsace. Nous souhaitons donner une note internationale à cetévénement en invitant quelques tourneurs de renom ainsi que certains tourneurs issus du bassinRhénan. \n\n\n\nL’AFTAB proposera également des démonstrations de tournage à l’entrée de l’exposition. \n\n\n\n=> La vente des oeuvres sera autorisée. Les prix seront consultables par le public.
URL:https://aftab-asso.fr/event/art-expo-chatenois/
CATEGORIES:AFTAB
ATTACH;FMTTYPE=image/png:https://aftab-asso.fr/wp-content/uploads/Capture-decran-2026-04-03-091332.png
END:VEVENT
END:VCALENDAR