BEGIN:VCALENDAR
VERSION:2.0
PRODID:-//Association Française pour le Tournage d Art sur Bois - ECPv6.15.20//NONSGML v1.0//EN
CALSCALE:GREGORIAN
METHOD:PUBLISH
X-ORIGINAL-URL:https://aftab-asso.fr
X-WR-CALDESC:Évènements pour Association Française pour le Tournage d Art sur Bois
REFRESH-INTERVAL;VALUE=DURATION:PT1H
X-Robots-Tag:noindex
X-PUBLISHED-TTL:PT1H
BEGIN:VTIMEZONE
TZID:Europe/Paris
BEGIN:DAYLIGHT
TZOFFSETFROM:+0100
TZOFFSETTO:+0200
TZNAME:CEST
DTSTART:20230326T010000
END:DAYLIGHT
BEGIN:STANDARD
TZOFFSETFROM:+0200
TZOFFSETTO:+0100
TZNAME:CET
DTSTART:20231029T010000
END:STANDARD
BEGIN:DAYLIGHT
TZOFFSETFROM:+0100
TZOFFSETTO:+0200
TZNAME:CEST
DTSTART:20240331T010000
END:DAYLIGHT
BEGIN:STANDARD
TZOFFSETFROM:+0200
TZOFFSETTO:+0100
TZNAME:CET
DTSTART:20241027T010000
END:STANDARD
BEGIN:DAYLIGHT
TZOFFSETFROM:+0100
TZOFFSETTO:+0200
TZNAME:CEST
DTSTART:20250330T010000
END:DAYLIGHT
BEGIN:STANDARD
TZOFFSETFROM:+0200
TZOFFSETTO:+0100
TZNAME:CET
DTSTART:20251026T010000
END:STANDARD
BEGIN:DAYLIGHT
TZOFFSETFROM:+0100
TZOFFSETTO:+0200
TZNAME:CEST
DTSTART:20260329T010000
END:DAYLIGHT
BEGIN:STANDARD
TZOFFSETFROM:+0200
TZOFFSETTO:+0100
TZNAME:CET
DTSTART:20261025T010000
END:STANDARD
BEGIN:DAYLIGHT
TZOFFSETFROM:+0100
TZOFFSETTO:+0200
TZNAME:CEST
DTSTART:20270328T010000
END:DAYLIGHT
BEGIN:STANDARD
TZOFFSETFROM:+0200
TZOFFSETTO:+0100
TZNAME:CET
DTSTART:20271031T010000
END:STANDARD
END:VTIMEZONE
BEGIN:VTIMEZONE
TZID:Europe/Paris
BEGIN:DAYLIGHT
TZOFFSETFROM:+0100
TZOFFSETTO:+0200
TZNAME:CEST
DTSTART:20230326T010000
END:DAYLIGHT
BEGIN:STANDARD
TZOFFSETFROM:+0200
TZOFFSETTO:+0100
TZNAME:CET
DTSTART:20231029T010000
END:STANDARD
BEGIN:DAYLIGHT
TZOFFSETFROM:+0100
TZOFFSETTO:+0200
TZNAME:CEST
DTSTART:20240331T010000
END:DAYLIGHT
BEGIN:STANDARD
TZOFFSETFROM:+0200
TZOFFSETTO:+0100
TZNAME:CET
DTSTART:20241027T010000
END:STANDARD
BEGIN:DAYLIGHT
TZOFFSETFROM:+0100
TZOFFSETTO:+0200
TZNAME:CEST
DTSTART:20250330T010000
END:DAYLIGHT
BEGIN:STANDARD
TZOFFSETFROM:+0200
TZOFFSETTO:+0100
TZNAME:CET
DTSTART:20251026T010000
END:STANDARD
BEGIN:DAYLIGHT
TZOFFSETFROM:+0100
TZOFFSETTO:+0200
TZNAME:CEST
DTSTART:20260329T010000
END:DAYLIGHT
BEGIN:STANDARD
TZOFFSETFROM:+0200
TZOFFSETTO:+0100
TZNAME:CET
DTSTART:20261025T010000
END:STANDARD
BEGIN:DAYLIGHT
TZOFFSETFROM:+0100
TZOFFSETTO:+0200
TZNAME:CEST
DTSTART:20270328T010000
END:DAYLIGHT
BEGIN:STANDARD
TZOFFSETFROM:+0200
TZOFFSETTO:+0100
TZNAME:CET
DTSTART:20271031T010000
END:STANDARD
END:VTIMEZONE
BEGIN:VTIMEZONE
TZID:UTC
BEGIN:STANDARD
TZOFFSETFROM:+0000
TZOFFSETTO:+0000
TZNAME:UTC
DTSTART:20220101T000000
END:STANDARD
END:VTIMEZONE
BEGIN:VEVENT
DTSTART;TZID=Europe/Paris:20260412T090000
DTEND;TZID=Europe/Paris:20260412T173000
DTSTAMP:20260421T115210
CREATED:20240401T142323Z
LAST-MODIFIED:20260306T214716Z
UID:768-1775984400-1776015000@aftab-asso.fr
SUMMARY:Rencontre Antenne Le Mans
DESCRIPTION:Rencontre régulière des membres de l’antenne AFTAB « Le Mans »Thème : Texture ; Tour ornemental ; Décentré / Désaxé. \n\n\n\nProchaines dates de rencontres 2026 :Samedi 28 Février: Rouillon. Jeudi 12 Mars Pontvalain. Réunion en marge chez Dominique JANVIER avec Paul Corbineau.Week-end 11-12 Avril Rouillon. Dans le cadre des JEMA\, 3 tours en action tout le week-end.Samedi 23 Mai Rouillon. Segmenté.Samedi 27 Juin Rouillon. Trembleurs.Samedi 12 Septembre Requeil. Atelier Dominique GUENAUX. Gravure laser.Octobre : Exposition à programmer.Samedi 21 Novembre Le Mans. Atelier Rémi COTTEREAU.
URL:https://aftab-asso.fr/event/rencontre-antenne-le-mans/
CATEGORIES:Antennes
ATTACH;FMTTYPE=image/jpeg:https://aftab-asso.fr/wp-content/uploads/IMG_2568-scaled.jpg
END:VEVENT
BEGIN:VEVENT
DTSTART;TZID=Europe/Paris:20260408T190000
DTEND;TZID=Europe/Paris:20260408T210000
DTSTAMP:20260421T115210
CREATED:20231128T143833Z
LAST-MODIFIED:20260307T181320Z
UID:294-1775674800-1775682000@aftab-asso.fr
SUMMARY:Rencontre antenne Alpes
DESCRIPTION:Rencontre AFTAB des membres de l’antenne Alpes \n\n\n\nau Percolateur10 avenue du Mont Saint Michel 73000 BARBERAZ \n\n\n\nThème du JOUR★ non défini. \n\n\n\nÀ chacun de venir partager ses idées\, techniques\, trucs etc. Amenez les pièces à 4 mains.
URL:https://aftab-asso.fr/event/rencontre-antenne-alpes/
CATEGORIES:Antennes
ATTACH;FMTTYPE=image/png:https://aftab-asso.fr/wp-content/uploads/IMEA-Antenne-Alpes.png
END:VEVENT
BEGIN:VEVENT
DTSTART;TZID=Europe/Paris:20260321T093000
DTEND;TZID=Europe/Paris:20260321T113000
DTSTAMP:20260421T115210
CREATED:20250223T152408Z
LAST-MODIFIED:20260218T204828Z
UID:978-1774085400-1774092600@aftab-asso.fr
SUMMARY:Assemblée Générale Ordinaire
DESCRIPTION:Assemblée Générale Ordinaire de l’AFTAB \n\n\n\nPour une dernière fois\, notre assemblée générale se tiendra en visio-conférence via zoom. \n\n\n\nMoment important de toute association\, elle permet de faire un point sur les projets 2025 et à venir en 2026. Ouverte à tous les adhérents à jour de leur cotisation\, c’est un moment de partage auquel nous vous invitons chaleureusement. \n\n\n\nRetrouvez les documents liés à cette AGO dans le forum\, et votez si ce n’est déjà fait !
URL:https://aftab-asso.fr/event/assemblee-generale-ordinaire/
CATEGORIES:AFTAB
ATTACH;FMTTYPE=image/png:https://aftab-asso.fr/wp-content/uploads/image-768x623-2.png
END:VEVENT
BEGIN:VEVENT
DTSTART;TZID=Europe/Paris:20260309T080000
DTEND;TZID=Europe/Paris:20260309T170000
DTSTAMP:20260421T115210
CREATED:20240125T080052Z
LAST-MODIFIED:20260220T134459Z
UID:725-1773043200-1773075600@aftab-asso.fr
SUMMARY:Rencontre Antenne Alsace Lorraine
DESCRIPTION:Rencontre Antenne Alsace Lorraine\,Chez Jean-Pierre !
URL:https://aftab-asso.fr/event/rencontre-antenne-alsace-lorraine/
CATEGORIES:Antennes
ATTACH;FMTTYPE=image/jpeg:https://aftab-asso.fr/wp-content/uploads/IMEA-antenne-Alsace.jpg
END:VEVENT
BEGIN:VEVENT
DTSTART;TZID=Europe/Paris:20260215T080000
DTEND;TZID=Europe/Paris:20260215T170000
DTSTAMP:20260421T115210
CREATED:20231129T071751Z
LAST-MODIFIED:20260126T093250Z
UID:662-1771142400-1771174800@aftab-asso.fr
SUMMARY:Rencontre Antenne Ile de France / Centre
DESCRIPTION:JCC propose une prochaine réunion le dimanche 15 février 2026. \n\n\n\nDominique propose de parler des réglages de la scie à ruban et des fers de raboteuse. \n\n\n\nVenez nombreux\, \n\n\n\nD’ici là amusez-vous bien ! 
URL:https://aftab-asso.fr/event/rencontre-antenne-ile-de-france-centre/
CATEGORIES:Antennes
ATTACH;FMTTYPE=image/png:https://aftab-asso.fr/wp-content/uploads/Capture-decran-2024-02-27-101951.png
END:VEVENT
BEGIN:VEVENT
DTSTART;TZID=Europe/Paris:20260210T110000
DTEND;TZID=Europe/Paris:20260210T163000
DTSTAMP:20260421T115210
CREATED:20250601T173313Z
LAST-MODIFIED:20260120T114441Z
UID:1057-1770721200-1770741000@aftab-asso.fr
SUMMARY:Rencontre antenne Portes de Bretagne
DESCRIPTION:Rencontre des membres de l’antenne Portes de Bretagne\,  \n\n\n\nChez Annie-Claude 1 Av. Duguesclin 35190 Tinténiac \n\n\n\nThème du JOUR★ À chacun de venir partager ses idées\, techniques\, trucs etc
URL:https://aftab-asso.fr/event/rencontre-portes-de-bretagne/
CATEGORIES:Antennes
ATTACH;FMTTYPE=image/png:https://aftab-asso.fr/wp-content/uploads/Capture-decran-2025-06-08-110559.png
END:VEVENT
BEGIN:VEVENT
DTSTART;TZID=Europe/Paris:20260124T080000
DTEND;TZID=Europe/Paris:20260124T170000
DTSTAMP:20260421T115210
CREATED:20231214T080218Z
LAST-MODIFIED:20251007T153809Z
UID:713-1769241600-1769274000@aftab-asso.fr
SUMMARY:Rencontre Antenne Région Lyonnaise
DESCRIPTION:Rencontre périodique des membres de l’antenne \n\n\n\nChez Franck Schwartz à Villars les Dombes. Le bureau de l’antenne RL vous donne rendez-vous pur une nouvelle rencontre \n\n\n\nCertains adhérents proposent de travailler en groupe sur les thématiques proposées.Pensez à apporter d’autres pièces pour la critique constructive.
URL:https://aftab-asso.fr/event/rencontre-antenne-region-lyonnaise/
CATEGORIES:Antennes
ATTACH;FMTTYPE=image/jpeg:https://aftab-asso.fr/wp-content/uploads/IMEA-antenne-Region-Lyonnaise.jpg
END:VEVENT
BEGIN:VEVENT
DTSTART;TZID=UTC:20251122T100000
DTEND;TZID=UTC:20251123T180000
DTSTAMP:20260421T115210
CREATED:20230914T135658Z
LAST-MODIFIED:20250121T082534Z
UID:304-1763805600-1763920800@aftab-asso.fr
SUMMARY:Biennale des Arts du Bois
DESCRIPTION:Biennale des Arts du Bois \, à  Ste Foy-lès-Lyon. \n\n\n\nRencontrez des artistes professionnels des arts du bois et découvrez leurs oeuvres remarquables et variées\, parlez de leur métier\, leurs passions et leurs sensibilités. \n\n\n\nL’AFTAB et la ville de Sainte-Foy-lès-Lyon vous donnent rendez-vous pour la 13e Biennale des Arts sur Bois les 22 et 23 novembre 2025 de 10h à 18h. \n\n\n\nTournage sur bois\, sculpture\, texturage\, mise en couleur\, à l’approche des fêtes de fin d’année\, venez en prendre plein la vue ! \n\n\n\nEntrée libre
URL:https://aftab-asso.fr/event/biennale-des-arts-du-bois/
CATEGORIES:Antennes
ATTACH;FMTTYPE=image/jpeg:https://aftab-asso.fr/wp-content/uploads/2023/09/SteFoy23-web.jpg
END:VEVENT
BEGIN:VEVENT
DTSTART;TZID=Europe/Paris:20251108T080000
DTEND;TZID=Europe/Paris:20251110T170000
DTSTAMP:20260421T115210
CREATED:20250121T082246Z
LAST-MODIFIED:20250507T063826Z
UID:946-1762588800-1762794000@aftab-asso.fr
SUMMARY:Congrès international de tournage sur bois
DESCRIPTION:Le 8 ème congrès international de l’Association Française de Tournage d’Art sur Bois (AFTAB) se tiendra au village de vacances l’Escandille à Autrans\, commune d’Autrans-Méaudre\, au cœur du Parc Régional du Vercors (38).  \n\n\n\nVous retrouverez les démonstrateurs internationaux et nationaux suivants : Greg GALLEGOS (USA)\, Sally BURNETT (UK)\, Lindsay CARLYN (USA)\, Stephen HATCHER (USA)\, Radek TETERYCZ (Pologne)\, Natacha HEITZ (F)\, Hubert LANDRI (F)\, Yann MAROT (F)\, Jean-Yves COUTAND (F)\, Rudy MEHR (It.)\, Roberto BRAMBILLA (It.) ainsi qu’une conférencière\, Catherine LENNE auteure de “Vous avez dit Biz’arbres” et de “Dans la Peau d’un Arbre”.
URL:https://aftab-asso.fr/event/congres-international-de-tournage-sur-bois/
CATEGORIES:AFTAB
ATTACH;FMTTYPE=image/jpeg:https://aftab-asso.fr/wp-content/uploads/affiche-V1-scaled.jpg
END:VEVENT
BEGIN:VEVENT
DTSTART;TZID=Europe/Paris:20251018T080000
DTEND;TZID=Europe/Paris:20251019T170000
DTSTAMP:20260421T115210
CREATED:20250728T075251Z
LAST-MODIFIED:20250728T075252Z
UID:1107-1760774400-1760893200@aftab-asso.fr
SUMMARY:Irish Woodturner seminar
DESCRIPTION:Congrès National Irlandais (Irish Woodturners Guild) \n\n\n\nArt Liestman (Canada)\, Ronald Kanne (Netherlands)\, Pierre Cornelis (France)\, Gregory Moreton (UK) and Seamus Cassidy (Ireland). \n\n\n\n\n\n\n\n\n\nhttps://www.iwg.ie/shop/national-seminar
URL:https://aftab-asso.fr/event/irish-woodturner-seminar/
CATEGORIES:Autres assos
ATTACH;FMTTYPE=image/png:https://aftab-asso.fr/wp-content/uploads/Capture-decran-2025-07-28-094504.png
END:VEVENT
BEGIN:VEVENT
DTSTART;TZID=Europe/Paris:20251017T200000
DTEND;TZID=Europe/Paris:20251019T180000
DTSTAMP:20260421T115210
CREATED:20250904T164959Z
LAST-MODIFIED:20250913T075321Z
UID:1123-1760731200-1760896800@aftab-asso.fr
SUMMARY:Le bois dans tous ses états
DESCRIPTION:Cette année Art Bois & Cie et l’Association Française de Tournage d’Art sur Bois vous proposent de venir découvrir le travail d’artisans du bois. Au programme : démonstrations de tournage sur bois\, vannerie\, saboterie\, lutherie\, ébénisterie\, marqueterie\, chantournage\, expositions de créations mais aussi deux conférences. \n\n\n\nSamedi 18 octobre 13h-18h & Dimanche 19 octobre 10h-18h :⮚ Exposition des arbres sculptés de Paul : prêt du musée CARNUTA\, maison de l’homme et de la forêtde Jupilles⮚ Exposition – ventes des œuvres des artisans présents⮚ Sculpture à la tronçonneuse d’un arbre du parc de VAUJOUBERT.⮚ Démonstrations de tournage sur bois\, vannerie\, saboterie\, lutherie\, ébénisterie\, marqueterie\,chantournage\, ….⮚ Présence des Compagnons du devoirDomaine De Vaujoubert _ ROUILLON 72700 _ (aux portes du MANS) Accès parking : 174 Rue de Beaugé72700 ROUILLONBus Ligne 28 (arrêt Vaujoubert) ou par le Tram 1 (arrêt université 10 minutes de marche) \n\n\n\nLe vendredi 17 octobre à 20 heures 30 : Mr Paul CORBINEAU sculpteur etconteur nous dira tout sur « Les arbres sèment »\,Les arbres présents dans le temps\, pour longtemps\, colonisent l’espace grâce à leurs graines. Leursorganes reproductifs peuvent être discrets ou flamboyants. Leurs graines de tailles diverses sontplus ou moins connues.Au travers le bois de 20 arbres conifères ou feuillus\, Paul vous propose de mettre en lumière leursexualité luxuriante avec un brin de fantaisie ! \n\n\n\nLe samedi 18 octobre à 18 heures :Mr Patrick JOUENNE « La flèche de Notre-Dame »\,Patrick JOUENNE\, gâcheur sur le chantier de restauration de la flèche de Notre Dame\, nousprésentera le déroulement des travaux auquel il a participé lors de la restauration de la flèche dela cathédrale Notre Dame de PARIS.Le gâcheur est un maître compagnon charpentier chargé du tracé des épures et de la préparation desbois pour la mise en œuvre.
URL:https://aftab-asso.fr/event/le-bois-dans-tous-ses-etats/
CATEGORIES:Antennes,Autres assos
ATTACH;FMTTYPE=image/jpeg:https://aftab-asso.fr/wp-content/uploads/affiche-art-bois-et-cie-scaled.jpg
END:VEVENT
BEGIN:VEVENT
DTSTART;TZID=UTC:20250924T080000
DTEND;TZID=UTC:20251001T170000
DTSTAMP:20260421T115210
CREATED:20230914T132552Z
LAST-MODIFIED:20250108T111452Z
UID:290-1758700800-1759338000@aftab-asso.fr
SUMMARY:ça tourne à Plouhinec
DESCRIPTION:Rencontres internationales de Tournage sur Bois. Démonstrations\, Exposition\, Animations.Se retrouver\, échanger et prendre du bon temps.
URL:https://aftab-asso.fr/event/ca-tourne-a-plouhinec/
CATEGORIES:AFTAB
ATTACH;FMTTYPE=image/jpeg:https://aftab-asso.fr/wp-content/uploads/Affiche_Plouhinec_FR_sept_2025.pdf.jpg
END:VEVENT
BEGIN:VEVENT
DTSTART;TZID=Europe/Paris:20250816T100000
DTEND;TZID=Europe/Paris:20250817T170000
DTSTAMP:20260421T115210
CREATED:20240403T070634Z
LAST-MODIFIED:20250530T095429Z
UID:774-1755338400-1755450000@aftab-asso.fr
SUMMARY:Festival de tournage sur bois à Anduze
DESCRIPTION:Durant deux jours\, Anduze va vibrer au rythme des tours à bois. Le festival de tournage d’art sur bois\, c’est un marché d’artisans\, des démonstrations et une exposition permanente.  \n\n\n\nConcerts et animations durant tout le week-end\, food-trucks et buvette sur place
URL:https://aftab-asso.fr/event/festival-de-tournage-sur-bois-a-anduze/
LOCATION:Place des cordeliers\, Anduze\, Place des cordeliers\, Anduze\, France
CATEGORIES:Antennes
ATTACH;FMTTYPE=image/jpeg:https://aftab-asso.fr/wp-content/uploads/affiche-anduze.jpg
END:VEVENT
BEGIN:VEVENT
DTSTART;TZID=Europe/Paris:20250731T080000
DTEND;TZID=Europe/Paris:20250804T170000
DTSTAMP:20260421T115210
CREATED:20250121T091421Z
LAST-MODIFIED:20250121T091422Z
UID:950-1753948800-1754326800@aftab-asso.fr
SUMMARY:Vallée d'Aoste
DESCRIPTION:information à venir
URL:https://aftab-asso.fr/event/vallee-daoste/
CATEGORIES:Autres assos
END:VEVENT
BEGIN:VEVENT
DTSTART;TZID=Europe/Paris:20250607T000000
DTEND;TZID=Europe/Paris:20250628T235959
DTSTAMP:20260421T115210
CREATED:20250224T141246Z
LAST-MODIFIED:20250530T093953Z
UID:980-1749254400-1751155199@aftab-asso.fr
SUMMARY:Éclats d'art
DESCRIPTION:Exposition\n\n\n\nAvec la participation de l’Atelier Chatersen\, Bernard Azéma\,Estelle Bougnoux\, Julien Cavaillé\, Eric Cousin\, Joël Drouin\,Cécile Fouquet\, Jacob Gallissard\, Martin Graham\, Tom Jung\,Alain Mailland\, Julien Manikian\, Elisabeth Mézières\, Robin Renaud\,François Roux et Paul Texier. \n\n\n\nMaison des Arts – Espace Henri Pujol19\, avenue Abbé Tarroux – 34600 Bédarieux \n\n\n\nVernissage le samedi 7 juin
URL:https://aftab-asso.fr/event/eclats-dart/
ATTACH;FMTTYPE=image/webp:https://aftab-asso.fr/wp-content/uploads/affiche-bedarieux.webp
END:VEVENT
BEGIN:VEVENT
DTSTART;TZID=Europe/Paris:20250529T090000
DTEND;TZID=Europe/Paris:20250531T170000
DTSTAMP:20260421T115210
CREATED:20240430T072230Z
LAST-MODIFIED:20250121T091606Z
UID:792-1748509200-1748710800@aftab-asso.fr
SUMMARY:Les Petites Journées d'Aiguines
DESCRIPTION:Du 29 au 31 mai: 2 jours de congrès sur le tournage sur bois. L’occasion de voir des tourneurs pratiquer leur art et transmettre leur passion et leurs astuces d’atelier!Le 31 sera dédié aux portes ouvertes ainsi qu’à un marché de tourneurs.
URL:https://aftab-asso.fr/event/les-petites-journees-daiguines/
CATEGORIES:Autres assos
ATTACH;FMTTYPE=image/jpeg:https://aftab-asso.fr/wp-content/uploads/Affiche-Petites-Journees-2024.jpg
ORGANIZER;CN="Ecole Escoulen":MAILTO:contact@escoulen.com
END:VEVENT
BEGIN:VEVENT
DTSTART;TZID=Europe/Paris:20250413T080000
DTEND;TZID=Europe/Paris:20250413T170000
DTSTAMP:20260421T115210
CREATED:20240125T081718Z
LAST-MODIFIED:20250326T134416Z
UID:731-1744531200-1744563600@aftab-asso.fr
SUMMARY:Rencontre Antenne Dijon
DESCRIPTION:Rencontre des membres de l’antenne AFTAB Dijon \n\n\n\ndimanche 9 mars13 avril Atelier de Jérôme Marin
URL:https://aftab-asso.fr/event/rencontre-antenne-dijon/
CATEGORIES:Antennes
ATTACH;FMTTYPE=image/png:https://aftab-asso.fr/wp-content/uploads/image-768x623-2.png
END:VEVENT
BEGIN:VEVENT
DTSTART;TZID=Europe/Paris:20250412T080000
DTEND;TZID=Europe/Paris:20250412T170000
DTSTAMP:20260421T115210
CREATED:20240828T083701Z
LAST-MODIFIED:20250223T132205Z
UID:874-1744444800-1744477200@aftab-asso.fr
SUMMARY:Rencontre Antenne Cyrano
DESCRIPTION:Rencontre de l’antenne AFTAB Cyrano les mousquetaires \n\n\n\nAvec participation de Romuald Clémenceau
URL:https://aftab-asso.fr/event/rencontre-antenne-cyrano/
ATTACH;FMTTYPE=image/jpeg:https://aftab-asso.fr/wp-content/uploads/imea-Antenne-Cyrano.jpg
END:VEVENT
BEGIN:VEVENT
DTSTART;TZID=Europe/Paris:20250222T090000
DTEND;TZID=Europe/Paris:20250222T170000
DTSTAMP:20260421T115210
CREATED:20240206T111933Z
LAST-MODIFIED:20250213T151611Z
UID:737-1740214800-1740243600@aftab-asso.fr
SUMMARY:Rencontre Antenne Languedoc
DESCRIPTION:Rencontre des membres AFTAB de l’antenne Languedoc.à Chamborigaud (Gard).
URL:https://aftab-asso.fr/event/rencontre-antenne-languedoc-2/
CATEGORIES:Antennes
ATTACH;FMTTYPE=image/png:https://aftab-asso.fr/wp-content/uploads/image-768x623-1.png
END:VEVENT
BEGIN:VEVENT
DTSTART;TZID=Europe/Paris:20241025T150000
DTEND;TZID=Europe/Paris:20241028T000000
DTSTAMP:20260421T115210
CREATED:20240527T114330Z
LAST-MODIFIED:20240704T082837Z
UID:818-1729868400-1730073600@aftab-asso.fr
SUMMARY:Journées des Adhérents
DESCRIPTION:L’antenne AFTAB du Mans vous invite à participer aux journées des Adhérents. Ce moment convivial permettra à tous de se retrouver\, d’échanger autour de notre passion le tournage sur bois. Notre idée pour l’organisation de ces journées\, est de promouvoir de jeunes talents\, de faire participer activement les locaux de l’antenne\, d’expliquer une pièce d’exception (Pièce du MOF de Patrick Arlot)\, y apporter une touche féminine et de partager avec le public qui pourra\, le dimanche\, visiter l’exposition et participer à la vente aux enchères. Le programme des présentations\, nous l’espérons respectera cette idée.Pour l’exposition\, n’hésitez pas à amener des oeuvres collectives (comme cela fut le cas à Montignac) qui symbolisent le partage au sein de chaque antenne et permettent à chacun de participer à son niveau.
URL:https://aftab-asso.fr/event/journees-des-adherents/
CATEGORIES:AFTAB
ATTACH;FMTTYPE=image/png:https://aftab-asso.fr/wp-content/uploads/Visuel-Affiche-JDA.png
END:VEVENT
BEGIN:VEVENT
DTSTART;TZID=Europe/Paris:20241004T080000
DTEND;TZID=Europe/Paris:20241006T170000
DTSTAMP:20260421T115210
CREATED:20231122T122759Z
LAST-MODIFIED:20231122T123222Z
UID:701-1728028800-1728234000@aftab-asso.fr
SUMMARY:AWGB Intl Woodturning Seminar
DESCRIPTION:Le congrès annuel anglais de tournage sur bois… \n\n\n\nYarnfield Park Training & Conference Centre\, Staffordshire
URL:https://aftab-asso.fr/event/awgb-intl-woodturning-seminar/
CATEGORIES:Autres assos
ATTACH;FMTTYPE=image/jpeg:https://aftab-asso.fr/wp-content/uploads/awgb2024.jpg
END:VEVENT
BEGIN:VEVENT
DTSTART;TZID=Europe/Paris:20240921T080000
DTEND;TZID=Europe/Paris:20240922T170000
DTSTAMP:20260421T115210
CREATED:20231214T080850Z
LAST-MODIFIED:20231214T080851Z
UID:715-1726905600-1727024400@aftab-asso.fr
SUMMARY:Marché des tourneurs à Chazay d'Azergues
DESCRIPTION:Marché des tourneurs Chazay d’Azergues
URL:https://aftab-asso.fr/event/marche-des-tourneurs-a-chazay-dazergues/
CATEGORIES:Antennes
END:VEVENT
BEGIN:VEVENT
DTSTART;TZID=Europe/Paris:20240907T080000
DTEND;TZID=Europe/Paris:20240907T170000
DTSTAMP:20260421T115210
CREATED:20240702T204910Z
LAST-MODIFIED:20240702T204911Z
UID:841-1725696000-1725728400@aftab-asso.fr
SUMMARY:Festival bois papier de Landerneau
DESCRIPTION:Festival du bois tourné et du papier.Marché d’artisans\, Démonstrations\, Ateliers\, Conférences.
URL:https://aftab-asso.fr/event/festival-bois-papier-de-landerneau/
CATEGORIES:Antennes,Autres assos
ATTACH;FMTTYPE=image/jpeg:https://aftab-asso.fr/wp-content/uploads/affiche-langernau-2024.jpg
END:VEVENT
BEGIN:VEVENT
DTSTART;TZID=Europe/Paris:20240720T100000
DTEND;TZID=Europe/Paris:20240728T190000
DTSTAMP:20260421T115210
CREATED:20240403T064822Z
LAST-MODIFIED:20240604T184259Z
UID:771-1721469600-1722193200@aftab-asso.fr
SUMMARY:Exposition "Cohérence Bois"
DESCRIPTION:du 20 au 28 Juillet 2024 \n\n\n\nlieu : Centre culturel et sportif Le Cairn180 Rue des Écoles\, 38250 Lans-en-Vercors \n\n\n\nde 10h à 19h\, démonstration de tournage les week-end \n\n\n\nEntrée Libre \n\n\n\nL’exposition « COHÉRENCE BOIS » présente les œuvres innovantes d’une trentaine d’artistes français et italiens. La centaine d’œuvres réunies témoignent de la formidable technicité et de la créativité du tournage d’art sur bois aujourd’hui. \n\n\n\nLes formes traditionnelles\, revisitées\, répondent aux œuvres poétiques de design pur. Celles aux inclusions de résine et de métal dialoguent avec des pièces colorées ou de bois brut. Les sculptures de dentelle côtoient des pièces aux motifs géométriques ou figuratifs. .
URL:https://aftab-asso.fr/event/exposition-coherence-bois/
CATEGORIES:Antennes
ATTACH;FMTTYPE=image/png:https://aftab-asso.fr/wp-content/uploads/Affiche-Lans-2024.png
END:VEVENT
BEGIN:VEVENT
DTSTART;TZID=Europe/Paris:20240612T080000
DTEND;TZID=Europe/Paris:20240613T170000
DTSTAMP:20260421T115210
CREATED:20240430T193238Z
LAST-MODIFIED:20240430T193240Z
UID:798-1718179200-1718298000@aftab-asso.fr
SUMMARY:Réunion Antenne Gascogne
DESCRIPTION:Rencontre des adhérents AFTAB de l’antenne Gascogne \n\n\n\nà CANCUN \n\n\n\nPropositions et demandes à faire à Gérard Lamarque
URL:https://aftab-asso.fr/event/reunion-antenne-gascogne/
END:VEVENT
BEGIN:VEVENT
DTSTART;TZID=Europe/Paris:20240523T080000
DTEND;TZID=Europe/Paris:20240526T170000
DTSTAMP:20260421T115210
CREATED:20231122T123554Z
LAST-MODIFIED:20231122T123556Z
UID:705-1716451200-1716742800@aftab-asso.fr
SUMMARY:AAW International Woodturning Symposium
DESCRIPTION:Le congrès de tournage américain \n\n\n\nOregon Convention Center\, Portland\, OR
URL:https://aftab-asso.fr/event/aaw-international-woodturning-symposium/
CATEGORIES:Autres assos
ATTACH;FMTTYPE=image/jpeg:https://aftab-asso.fr/wp-content/uploads/AAWLogoSquare250.jpg
END:VEVENT
BEGIN:VEVENT
DTSTART;TZID=Europe/Paris:20240518T090000
DTEND;TZID=Europe/Paris:20240518T170000
DTSTAMP:20260421T115210
CREATED:20240206T112858Z
LAST-MODIFIED:20240410T081021Z
UID:740-1716022800-1716051600@aftab-asso.fr
SUMMARY:Rencontre Antenne Esterel
DESCRIPTION:Rencontre Antenne Esterel. Pour cette rencontre\, nous invitons un public élargi et consacrerons la journée au thème « La boite ». Partie 1 : les choix initiaux… \n\n\n\nPour ceux qui peuvent\, venez avec une de vos réalisation (de boite) ! \n\n\n\nOù :Atelier de Lionel Gisquet73 rue De BEAUSSET83600 Fréjus
URL:https://aftab-asso.fr/event/rencontre-antenne-esterel/
CATEGORIES:Antennes
ATTACH;FMTTYPE=image/jpeg:https://aftab-asso.fr/wp-content/uploads/IMG_20210719_093537-scaled.jpg
END:VEVENT
BEGIN:VEVENT
DTSTART;TZID=Europe/Paris:20240510T090000
DTEND;TZID=Europe/Paris:20240512T180000
DTSTAMP:20260421T115210
CREATED:20240430T071557Z
LAST-MODIFIED:20240430T071558Z
UID:789-1715331600-1715536800@aftab-asso.fr
SUMMARY:Rencontre Annuelle "Les fous du bois"
DESCRIPTION:9h à 12h et 14h à 18h – Entrée gratuiteDémonstrations de tournage\, sculpture et chantournage\, pyrogravure et marqueterie \n\n\n\n79300 Saint-Sauveur de givre\, Complexe sportifRenseignements au  06 45 41 49 05
URL:https://aftab-asso.fr/event/rencontre-annuelle-les-fous-du-bois/
CATEGORIES:Autres assos
ATTACH;FMTTYPE=image/jpeg:https://aftab-asso.fr/wp-content/uploads/fous-du-bois-mai-2024.jpg
END:VEVENT
BEGIN:VEVENT
DTSTART;TZID=UTC:20231110T080000
DTEND;TZID=UTC:20231112T170000
DTSTAMP:20260421T115210
CREATED:20231019T071008Z
LAST-MODIFIED:20231019T071331Z
UID:439-1699603200-1699808400@aftab-asso.fr
SUMMARY:Dolexpo
DESCRIPTION:Salon Dolexpo : Fête du tournage et des Arts du BoisOrganisé par l’Association des Tourneurs de Franche-ComtéThème : Région Bourgogne/ Franche-Comté
URL:https://aftab-asso.fr/event/dolexpo/
CATEGORIES:Autres assos
ATTACH;FMTTYPE=image/png:https://aftab-asso.fr/wp-content/uploads/Capture-decran-2023-10-19-110325.png
END:VEVENT
BEGIN:VEVENT
DTSTART;TZID=UTC:20231026T000000
DTEND;TZID=UTC:20231029T235959
DTSTAMP:20260421T115210
CREATED:20230408T083444Z
LAST-MODIFIED:20230614T121102Z
UID:176-1698278400-1698623999@aftab-asso.fr
SUMMARY:Journée des adhérents
DESCRIPTION:Après plusieurs années d’absence\, les journées des adhérents reviennent.Les antennes Périgord-Limousin\, Ile de France et Cyrano organisent ces journées en Dordogne\, sur le site prestigieux de Montignac-Lascaux. De quoi\, nous l’espérons\, ravir les tourneurs et leurs accompagnants.En plein Périgord noir\, situé à 15 minutes à pied du centre international de l’art pariétal LASCAUX 4\, proche des grands sites touristiques de la vallée de l’homme\, le centre international de séjour de Montignac-Lascaux nous accueille. \n\n\n\nDossier complet sur simple demande… \n\n\n\nPLANNING DEMONSTRATIONS ET SALLESTélécharger
URL:https://aftab-asso.fr/event/journee-des-adherents/
CATEGORIES:AFTAB
ATTACH;FMTTYPE=image/png:https://aftab-asso.fr/wp-content/uploads/2023/04/Capture-decran-2023-06-14-155704.png
END:VEVENT
END:VCALENDAR